BEGIN:VCALENDAR
VERSION:2.0
PRODID:-//familiesfirstessex.org//NONSGML kigkonsult.se iCalcreator 2.30.10
 //
CALSCALE:GREGORIAN
METHOD:PUBLISH
UID:e6ff513a-358e-49f4-b732-8ac5dde7611a
X-WR-CALDESC:Please join us for a pancake breakfast at Families First.   Af
 ter breakfast\, we will take a short walk to Papa Claude’s maple sugar hou
 se to tour the house and learn how sap turns to syrup.   \n \nHope to see 
 you there!\n\nPlease RSVP by Tuesday\, April 2nd \nto Deborah Mitchell  \n
 (518) 873-9544\n
X-WR-RELCALID:88a54067b69d7fa3f2bfd16d0e6c7a4c
X-WR-TIMEZONE:America/New_York
BEGIN:VTIMEZONE
TZID:America/New_York
BEGIN:STANDARD
TZNAME:EST
DTSTART:20181104T020000
TZOFFSETFROM:-0400
TZOFFSETTO:-0500
RDATE:20191103T020000
END:STANDARD
BEGIN:DAYLIGHT
TZNAME:EDT
DTSTART:20190310T020000
TZOFFSETFROM:-0500
TZOFFSETTO:-0400
RDATE:20200308T020000
END:DAYLIGHT
END:VTIMEZONE
BEGIN:VEVENT
UID:12e611f3-9553-4700-912a-0e421bd47b51
DTSTAMP:20260422T202518Z
DESCRIPTION:Please join us for a pancake breakfast at Families First.   Aft
 er breakfast\, we will take a short walk to Papa Claude’s maple sugar hous
 e to tour the house and learn how sap turns to syrup.   \n \nHope to see y
 ou there!\n\nPlease RSVP by Tuesday\, April 2nd \nto Deborah Mitchell  \n(
 518) 873-9544\n
DTSTART;TZID=America/New_York:20190406T100000
DTEND;TZID=America/New_York:20190406T130000
LOCATION:
SUMMARY:Maple Sugaring and Pancake Breakfast
END:VEVENT
END:VCALENDAR
